{
 "currentVersion": 11.5,
 "serviceDescription": "These data represent prevalence (i.e., relative abundance and proximity) of volatile fuel types (primarily conifers) capable of producing embers that could start fires. Water/ice pixels from the original input landcover raster are retained in volatile fuel prevalence rasters. The intent of the water/ice \"patch\" is to make the dataset easier for users to interpret these data and to distinguish areas unlikely to burn (e.g., sparse vegetation) from those that will not burn (e.g., water).\n\nThese data are an additional tool to use in risk assessments. Long Range Spotting data are useful for planning larger fuel treatments, regional analysis, and identifying larger areas with potential to burn. They do not replace models that simulate fire movement and behavior. \n\nPrevalence values fall into 6 categories:\n\n1 = Very Low prevalence of hazardous/highly flammable vegetation in the surrounding area\n2 = Low prevalence of hazardous/highly flammable vegetation in the surrounding area\n3 = Moderate prevalence of hazardous/highly flammable vegetation in the surrounding area.\n4 = High prevalence of hazardous/highly flammable vegetation in the surrounding area.\n5 = Maximum (surrounded) prevalence of hazardous/highly flammable vegetation in the surrounding area.\n \n10 = Identifies water/ice, derived from in the original landcover dataset.",
 "name": "ImageServices/AK_VolatileFuelPrevalence_LRS",
 "description": "These data represent prevalence (i.e., relative abundance and proximity) of volatile fuel types (primarily conifers) capable of producing embers that could start fires. Water/ice pixels from the original input landcover raster are retained in volatile fuel prevalence rasters. The intent of the water/ice \"patch\" is to make the dataset easier for users to interpret these data and to distinguish areas unlikely to burn (e.g., sparse vegetation) from those that will not burn (e.g., water).\n\nThese data are an additional tool to use in risk assessments. Long Range Spotting data are useful for planning larger fuel treatments, regional analysis, and identifying larger areas with potential to burn. They do not replace models that simulate fire movement and behavior. \n\nPrevalence values fall into 6 categories:\n\n1 = Very Low prevalence of hazardous/highly flammable vegetation in the surrounding area\n2 = Low prevalence of hazardous/highly flammable vegetation in the surrounding area\n3 = Moderate prevalence of hazardous/highly flammable vegetation in the surrounding area.\n4 = High prevalence of hazardous/highly flammable vegetation in the surrounding area.\n5 = Maximum (surrounded) prevalence of hazardous/highly flammable vegetation in the surrounding area.\n \n10 = Identifies water/ice, derived from in the original landcover dataset.",
 "extent": {
  "xmin": -1.93278570671792E7,
  "ymin": 7168033.2712781,
  "xmax": -1.30665570671792E7,
  "ymax": 1.15429032712781E7,
  "spatialReference": {
   "wkid": 102100,
   "latestWkid": 3857
  }
 },
 "initialExtent": {
  "xmin": -1.93278570671792E7,
  "ymin": 7168033.2712781,
  "xmax": -1.30665570671792E7,
  "ymax": 1.15429032712781E7,
  "spatialReference": {
   "wkid": 102100,
   "latestWkid": 3857
  }
 },
 "fullExtent": {
  "xmin": -1.93278570671792E7,
  "ymin": 7168033.2712781,
  "xmax": -1.30665570671792E7,
  "ymax": 1.15429032712781E7,
  "spatialReference": {
   "wkid": 102100,
   "latestWkid": 3857
  }
 },
 "sortableFields": "",
 "bandCount": 1,
 "pixelType": "U8",
 "minValues": [
  1
 ],
 "maxValues": [
  10
 ],
 "meanValues": [
  2.441726674734403
 ],
 "stdvValues": [
  2.5492352073499993
 ],
 "serviceProperties": "Center<\/MosaicMethod>First<\/MosaicOperator>true<\/SortAscending><\/LockImageID><\/TileOrderField>0<\/TileOrderBase>0.000000<\/AvgImageSpacingX>0.000000<\/AvgImageSpacingY>0.0<\/ViewPointX>0.0<\/ViewPointY>0.0<\/ViewPointDefShiftX>0.0<\/ViewPointDefShiftY>None<\/CompressionMethod>75<\/CompressionQuality>0.010000<\/CompressionTolerance>Bilinear<\/SamplingMethod><\/ImageServiceProperties><\/ImageServer>",
 "allowedFields": "",
 "hasMultidimensions": false,
 "pixelSizeX": 30,
 "pixelSizeY": 30,
 "meanPixelSize": 30,
 "datasetFormat": "SDR",
 "uncompressedSize": 30435970590,
 "blockWidth": 128,
 "blockHeight": 128,
 "compressionType": "LZ77",
 "bandNames": [
  "Band_1"
 ],
 "allowCopy": false,
 "allowAnalysis": true,
 "itemAccess": false,
 "inspectionCapabilities": "",
 "minPixelSize": 0,
 "maxPixelSize": 0,
 "copyrightText": "U.S. Department of the Interior, Bureau of Land Management (BLM), Alaska Fire Service",
 "serviceDataType": "esriImageServiceDataTypeThematic",
 "serviceSourceType": "esriImageServiceSourceTypeDataset",
 "objectIdField": "",
 "fields": [],
 "capabilities": "Image,Metadata",
 "defaultMosaicMethod": "Center",
 "allowedMosaicMethods": "",
 "sortField": "",
 "sortValue": null,
 "sortAscending": true,
 "mosaicOperator": "First",
 "defaultCompressionQuality": 75,
 "defaultResamplingMethod": "Bilinear",
 "maxImageHeight": 4100,
 "maxImageWidth": 15000,
 "allowRasterFunction": true,
 "rasterFunctionInfos": [
  {
   "name": "None",
   "description": "",
   "help": ""
  }
 ],
 "rasterTypeInfos": [
  {
   "name": "Raster Dataset",
   "description": "Supports all ArcGIS Raster Datasets",
   "help": ""
  }
 ],
 "mensurationCapabilities": "Basic",
 "hasHistograms": true,
 "hasColormap": false,
 "hasRasterAttributeTable": true,
 "minScale": 0,
 "maxScale": 0,
 "exportTilesAllowed": false,
 "supportsStatistics": false,
 "supportsAdvancedQueries": false,
 "editFieldsInfo": null,
 "ownershipBasedAccessControlForRasters": null,
 "allowComputeTiePoints": false,
 "useStandardizedQueries": true,
 "advancedQueryCapabilities": {
  "useStandardizedQueries": true,
  "supportsStatistics": false,
  "supportsOrderBy": false,
  "supportsDistinct": false,
  "supportsPagination": false
 },
 "spatialReference": {
  "wkid": 102100,
  "latestWkid": 3857
 },
 "resampling": false
}
