<?xml version="1.0"?>
<metadata xml:lang="en">
<Esri>
<CreaDate>20230224</CreaDate>
<CreaTime>08581400</CreaTime>
<ArcGISFormat>1.0</ArcGISFormat>
<SyncOnce>FALSE</SyncOnce>
<DataProperties>
<itemProps>
<itemName Sync="TRUE">GISRASTER.AK_VolatileFuelPrevalence_SRS</itemName>
<nativeExtBox>
<westBL Sync="TRUE">-19327857.067179</westBL>
<eastBL Sync="TRUE">-13066557.067179</eastBL>
<southBL Sync="TRUE">7168030.252667</southBL>
<northBL Sync="TRUE">11542900.252667</northBL>
<exTypeCode Sync="TRUE">1</exTypeCode>
</nativeExtBox>
<itemLocation>
<linkage Sync="TRUE">Server=ilmakfs3db1; Service=sde:oracle$ilmakfs3db1/afsdb.blm.doi.net; User=gisraster; Version=SDE.DEFAULT</linkage>
<protocol Sync="TRUE">ArcSDE Connection</protocol>
</itemLocation>
<imsContentType Sync="FALSE" export="False">001</imsContentType>
</itemProps>
<coordRef>
<type Sync="TRUE">Projected</type>
<geogcsn Sync="TRUE">GCS_WGS_1984</geogcsn>
<csUnits Sync="TRUE">Linear Unit: Meter (1.000000)</csUnits>
<projcsn Sync="TRUE">WGS_1984_Web_Mercator_Auxiliary_Sphere</projcsn>
<peXml Sync="TRUE">&lt;ProjectedCoordinateSystem xsi:type='typens:ProjectedCoordinateSystem' xmlns:xsi='http://www.w3.org/2001/XMLSchema-instance' xmlns:xs='http://www.w3.org/2001/XMLSchema' xmlns:typens='http://www.esri.com/schemas/ArcGIS/2.9.0'&gt;&lt;WKT&gt;PROJCS[&amp;quot;WGS_1984_Web_Mercator_Auxiliary_Sphere&amp;quot;,GEOGCS[&amp;quot;GCS_WGS_1984&amp;quot;,DATUM[&amp;quot;D_WGS_1984&amp;quot;,SPHEROID[&amp;quot;WGS_1984&amp;quot;,6378137.0,298.257223563]],PRIMEM[&amp;quot;Greenwich&amp;quot;,0.0],UNIT[&amp;quot;Degree&amp;quot;,0.0174532925199433]],PROJECTION[&amp;quot;Mercator_Auxiliary_Sphere&amp;quot;],PARAMETER[&amp;quot;False_Easting&amp;quot;,0.0],PARAMETER[&amp;quot;False_Northing&amp;quot;,0.0],PARAMETER[&amp;quot;Central_Meridian&amp;quot;,0.0],PARAMETER[&amp;quot;Standard_Parallel_1&amp;quot;,0.0],PARAMETER[&amp;quot;Auxiliary_Sphere_Type&amp;quot;,0.0],UNIT[&amp;quot;Meter&amp;quot;,1.0],AUTHORITY[&amp;quot;EPSG&amp;quot;,3857]]&lt;/WKT&gt;&lt;XOrigin&gt;-20037700&lt;/XOrigin&gt;&lt;YOrigin&gt;-30241100&lt;/YOrigin&gt;&lt;XYScale&gt;148923141.92838538&lt;/XYScale&gt;&lt;ZOrigin&gt;-100000&lt;/ZOrigin&gt;&lt;ZScale&gt;10000&lt;/ZScale&gt;&lt;MOrigin&gt;-100000&lt;/MOrigin&gt;&lt;MScale&gt;10000&lt;/MScale&gt;&lt;XYTolerance&gt;0.001&lt;/XYTolerance&gt;&lt;ZTolerance&gt;0.001&lt;/ZTolerance&gt;&lt;MTolerance&gt;0.001&lt;/MTolerance&gt;&lt;HighPrecision&gt;true&lt;/HighPrecision&gt;&lt;WKID&gt;102100&lt;/WKID&gt;&lt;LatestWKID&gt;3857&lt;/LatestWKID&gt;&lt;/ProjectedCoordinateSystem&gt;</peXml>
</coordRef>
</DataProperties>
<SyncDate>20230228</SyncDate>
<SyncTime>09333700</SyncTime>
<ModDate>20260501</ModDate>
<ModTime>9204600</ModTime>
<scaleRange>
<minScale>20000000</minScale>
<maxScale>5000</maxScale>
</scaleRange>
<ArcGISProfile>FGDC</ArcGISProfile>
</Esri>
<mdLang>
<languageCode Sync="TRUE" value="eng">
</languageCode>
<countryCode Sync="TRUE" value="USA">
</countryCode>
</mdLang>
<mdChar>
<CharSetCd value="004">
</CharSetCd>
</mdChar>
<mdHrLv>
<ScopeCd Sync="TRUE" value="005">
</ScopeCd>
</mdHrLv>
<mdHrLvName Sync="TRUE">dataset</mdHrLvName>
<mdDateSt Sync="FALSE">20230224</mdDateSt>
<distInfo>
<distFormat>
<formatName Sync="TRUE">Enterprise Geodatabase Raster Dataset</formatName>
</distFormat>
<distributor>
<distorCont>
<rpOrgName>U.S. Department of the Interior, U.S. Wildland Fire Service, Alaska (AFS)</rpOrgName>
<rpPosName>GIS Specialist</rpPosName>
<rpCntInfo>
<cntAddress addressType="postal">
<delPoint>PO Box 35005</delPoint>
<city>Fort Wainwright</city>
<adminArea>AK</adminArea>
<postCode>99703</postCode>
<eMailAdd>BLM_AK_AFS_GIS@blm.gov</eMailAdd>
<country>US</country>
</cntAddress>
<cntPhone>
<voiceNum>001 907 356 5600</voiceNum>
</cntPhone>
<cntInstr>Contact by email.</cntInstr>
</rpCntInfo>
<displayName>U.S. Department of the Interior, U.S. Wildland Fire Service, Alaska (AFS)</displayName>
<displayName>U.S. Department of the Interior, U.S. Wildland Fire Service, Alaska (AFS)</displayName>
<role>
<RoleCd value="007">
</RoleCd>
</role>
</distorCont>
</distributor>
<distTranOps>
<onLineSrc>
<linkage>https://fire.ak.blm.gov/arcgis/rest/services/ImageServices</linkage>
</onLineSrc>
</distTranOps>
</distInfo>
<dataIdInfo>
<placeKeys>
<thesaName>
<resTitle>USWFS-STATE</resTitle>
</thesaName>
<keyword>Alaska</keyword>
</placeKeys>
<themeKeys>
<thesaName>
<resTitle>USWFS-THEME</resTitle>
</thesaName>
<keyword>Fire</keyword>
<keyword>Management</keyword>
</themeKeys>
<themeKeys>
<thesaName>
<resTitle>NONE</resTitle>
</thesaName>
<keyword>landscape modeling</keyword>
<keyword>wildfire risk assessment</keyword>
<keyword>wildland fire</keyword>
</themeKeys>
<envirDesc Sync="TRUE">Microsoft Windows 10 Version 10.0 (Build 19045) ; Esri ArcGIS 12.9.4.32739</envirDesc>
<dataLang>
<languageCode Sync="TRUE" value="eng">
</languageCode>
<countryCode Sync="TRUE" value="USA">
</countryCode>
</dataLang>
<idCitation>
<citRespParty>
<rpIndName>U.S. Wildland Fire Service</rpIndName>
<role>
<RoleCd value="010">
</RoleCd>
</role>
</citRespParty>
<citRespParty>
<rpIndName>U.S. Wildland Fire Service, Alaska (AFS)</rpIndName>
<role>
<RoleCd value="006">
</RoleCd>
</role>
</citRespParty>
<resTitle Sync="FALSE">AK_VolatileFuelPrevalence_SRS</resTitle>
<presForm>
<PresFormCd Sync="TRUE" value="011">
</PresFormCd>
<fgdcGeoform>raster digital data</fgdcGeoform>
</presForm>
<date>
<createDate>20230203</createDate>
<pubDate>20230203</pubDate>
<reviseDate>20230203</reviseDate>
</date>
<otherCitDet>This work is based on similar work completed by J. Beverly, J. Schmidt, R. Ziel, and C. Moore.</otherCitDet>
<citRespParty>
<rpOrgName>U.S. Department of the Interior, U.S. Wildland Fire Service, Alaska (AFS)</rpOrgName>
<rpPosName>GIS Specialist</rpPosName>
<rpCntInfo>
<cntAddress addressType="postal">
<delPoint>PO Box 35005</delPoint>
<city>Fort Wainwright</city>
<adminArea>AK</adminArea>
<postCode>99703</postCode>
<eMailAdd>BLM_AK_AFS_GIS@blm.gov</eMailAdd>
<country>US</country>
</cntAddress>
<cntPhone>
<voiceNum>001 907 356 5600</voiceNum>
</cntPhone>
<cntInstr>Contact by email.</cntInstr>
</rpCntInfo>
<displayName>U.S. Department of the Interior, U.S. Wildland Fire Service, Alaska (AFS)</displayName>
<displayName>U.S. Department of the Interior, U.S. Wildland Fire Service, Alaska (AFS)</displayName>
<role>
<RoleCd value="007">
</RoleCd>
</role>
</citRespParty>
</idCitation>
<spatRpType>
<SpatRepTypCd Sync="TRUE" value="002">
</SpatRepTypCd>
</spatRpType>
<dataExt>
<geoEle>
<GeoBndBox esriExtentType="search">
<exTypeCode Sync="TRUE">1</exTypeCode>
<westBL Sync="FALSE">-170</westBL>
<eastBL Sync="FALSE">-130</eastBL>
<northBL Sync="FALSE">71</northBL>
<southBL Sync="FALSE">54</southBL>
</GeoBndBox>
</geoEle>
<tempEle>
<TempExtent>
<exTemp>
<TM_Instant>
<tmPosition>2026-05-01T00:00:00</tmPosition>
</TM_Instant>
</exTemp>
</TempExtent>
</tempEle>
<exDesc>publication date</exDesc>
</dataExt>
<idPurp>These data represent prevalence (i.e., relative abundance and proximity) of volatile fuel types (primarily conifers) capable of producing embers that could start fires. Water/ice pixels from the original input landcover raster are retained in volatile fuel prevalence rasters. The intent of the water/ice "patch" is to make the dataset easier for users to interpret these data and to distinguish areas unlikely to burn (e.g., sparse vegetation) from those that will not burn (e.g., water).
These data are an additional tool to use in risk assessments. Short Range Spotting data are useful for planning targeted fuel treatments. They do not replace models that simulate fire movement and behavior.</idPurp>
<idAbs>&lt;DIV STYLE="text-align:Left;"&gt;&lt;DIV&gt;&lt;DIV&gt;&lt;P&gt;&lt;SPAN&gt;These data represent prevalence (i.e., relative abundance and proximity) of volatile fuel types (primarily conifers) capable of producing embers that could start fires. Water/ice pixels from the original input landcover raster are retained in volatile fuel prevalence rasters. The intent of the water/ice "patch" is to make the dataset easier for users to interpret these data and to distinguish areas unlikely to burn (e.g., sparse vegetation) from those that will not burn (e.g., water). These data are an additional tool to use in risk assessments. Short Range Spotting data are useful for planning targeted fuel treatments. They do not replace models that simulate fire movement and behavior. Prevalence values fall into 6 categories: 1 = Very Low prevalence of hazardous/highly flammable vegetation in the surrounding area 2 = Low prevalence of hazardous/highly flammable vegetation in the surrounding area 3 = Moderate prevalence of hazardous/highly flammable vegetation in the surrounding area. 4 = High prevalence of hazardous/highly flammable vegetation in the surrounding area. 5 = Maximum (surrounded) prevalence of hazardous/highly flammable vegetation in the surrounding area. 10 = Identifies water/ice, derived from in the original landcover dataset.&lt;/SPAN&gt;&lt;/P&gt;&lt;/DIV&gt;&lt;/DIV&gt;&lt;/DIV&gt;</idAbs>
<idCredit>U.S. Department of the Interior, U.S. Wildland Fire Service, Alaska (AFS)</idCredit>
<searchKeys>
<keyword>Alaska</keyword>
<keyword>biota</keyword>
<keyword>environment</keyword>
<keyword>Fire</keyword>
<keyword>landscape modeling</keyword>
<keyword>Management</keyword>
<keyword>planningCadastre</keyword>
<keyword>wildfire risk assessment</keyword>
<keyword>wildland fire</keyword>
</searchKeys>
<idStatus>
<ProgCd value="004">
</ProgCd>
</idStatus>
<dataChar>
<CharSetCd value="004">
</CharSetCd>
</dataChar>
<resMaint>
<maintFreq>
<MaintFreqCd value="009">
</MaintFreqCd>
</maintFreq>
</resMaint>
<resConst>
<Consts>
<useLimit>&lt;DIV STYLE="text-align:Left;"&gt;&lt;DIV&gt;&lt;DIV&gt;&lt;P&gt;&lt;SPAN&gt;These data are provided “as is” and might contain errors or omissions. The User assumes the entire risk associated with its use of these data and bears all responsibility in determining whether these data are fit for the User’s intended use. The information contained in these data is dynamic and may change over time. The data are not better than the sources from which they were derived, and both scale and accuracy may vary across the data set. These data might not have the accuracy, resolution, completeness, timeliness, or other characteristics appropriate for applications that potential users of the data may contemplate.&lt;/SPAN&gt;&lt;/P&gt;&lt;/DIV&gt;&lt;/DIV&gt;&lt;/DIV&gt;</useLimit>
</Consts>
</resConst>
<resConst>
<LegConsts>
<useLimit>These data are provided “as is” and might contain errors or omissions. The User assumes the entire risk associated with its use of these data and bears all responsibility in determining whether these data are fit for the User’s intended use. The information contained in these data is dynamic and may change over time. The data are not better than the sources from which they were derived, and both scale and accuracy may vary across the data set. These data might not have the accuracy, resolution, completeness, timeliness, or other characteristics appropriate for applications that potential users of the data may contemplate.</useLimit>
<othConsts>None, these data are considered public domain.</othConsts>
</LegConsts>
</resConst>
<idPoC>
<rpOrgName>U.S. Department of the Interior, U.S. Wildland Fire Service, Alaska (AFS)</rpOrgName>
<rpPosName>GIS Specialist</rpPosName>
<rpCntInfo>
<cntAddress addressType="postal">
<delPoint>PO Box 35005</delPoint>
<city>Fort Wainwright</city>
<adminArea>AK</adminArea>
<postCode>99703</postCode>
<eMailAdd>BLM_AK_AFS_GIS@blm.gov</eMailAdd>
<country>US</country>
</cntAddress>
<cntPhone>
<voiceNum>001 907 356 5600</voiceNum>
</cntPhone>
<cntInstr>Contact by email.</cntInstr>
</rpCntInfo>
<displayName>U.S. Department of the Interior, U.S. Wildland Fire Service, Alaska (AFS)</displayName>
<displayName>U.S. Department of the Interior, U.S. Wildland Fire Service, Alaska (AFS)</displayName>
<role>
<RoleCd value="007">
</RoleCd>
</role>
</idPoC>
<tpCat>
<TopicCatCd value="002">
</TopicCatCd>
</tpCat>
<tpCat>
<TopicCatCd value="007">
</TopicCatCd>
</tpCat>
<tpCat>
<TopicCatCd value="015">
</TopicCatCd>
</tpCat>
</dataIdInfo>
<mdMaint>
<maintNote>Last metadata review date: 20260501</maintNote>
<maintFreq>
<MaintFreqCd value="009">
</MaintFreqCd>
</maintFreq>
</mdMaint>
<mdConst>
<Consts>
<useLimit>&lt;DIV STYLE="text-align:Left;"&gt;&lt;DIV&gt;&lt;P&gt;&lt;SPAN&gt;These data are provided “as is” and might contain errors or omissions. The User assumes the entire risk associated with its use of these data and bears all responsibility in determining whether these data are fit for the User’s intended use. The information contained in these data is dynamic and may change over time. The data are not better than the sources from which they were derived, and both scale and accuracy may vary across the data set. These data might not have the accuracy, resolution, completeness, timeliness, or other characteristics appropriate for applications that potential users of the data may contemplate.&lt;/SPAN&gt;&lt;/P&gt;&lt;P&gt;&lt;SPAN /&gt;&lt;/P&gt;&lt;/DIV&gt;&lt;/DIV&gt;</useLimit>
</Consts>
</mdConst>
<mdConst>
<LegConsts>
<othConsts>None, these data are considered public domain.</othConsts>
</LegConsts>
</mdConst>
<dqInfo>
<report dimension="horizontal" type="DQAbsExtPosAcc">
<measDesc>Unknown. There are likely errors in the input data and those errors will be reflected in this dataset.</measDesc>
</report>
<report type="DQConcConsis">
<measDesc>Unknown. There are likely errors in the input data and those errors will be reflected in this dataset.</measDesc>
</report>
<report type="DQCompOm">
<measDesc>These data do not cover all of Alaska . They coincide with the boundaries of the Alaska Predictive Services Areas.</measDesc>
</report>
<report type="DQQuanAttAcc">
<measDesc>Unknown. There are likely errors in the input data and those errors will be reflected in this dataset.</measDesc>
</report>
<dataLineage>
<dataSource>
<srcDesc>LANDFIRE Existing Vegetation Type (EVT) AK. LA24_EVT_250.</srcDesc>
</dataSource>
<dataSource>
<srcDesc>BLM AFS Alaska Statewide Fire History Perimeters 1940-2025 Polygon</srcDesc>
</dataSource>
<prcStep>
<stepDesc>LANDFIRE Existing Vegetation Type (EVT) raster data was used as the input landcover rater. The EVT raster to clipped to coincide with the boundaries of the Alaska Predictive Service Areas. We found fire scars missing from the landcover raster. The missing fire scars were converted to rasters and mosaiced into the original landcover raster to produce and updated landcover dataset. The updated landcover dataset was reclassified based on generalized vegetation type and hazard rating. Generalized types and hazard ratings are presented below. The format is: Generalized type Name (100m reclass value | 500 m reclass value)
Evergreen Forest ( 100 | 100 )
Low-Tall Shrub/Herbaceous/Deciduous Forest ( 30 | 6 )
Mixed Forest ( 75 | 75 )
Sparsely Vegetated/Barren ( 0 | 0 )
Tussock Tundra ( 50 | 20 )
Water/Ice ( 0 | 0 )
Woodland (100 | 100 )
Fire scar, 1-3 years old ( 0 | 0 )
Fire scar, 4+ years old ( 30 | 6 )
Reclassification resulted in two new rasters (reclass100m, reclass500m).
Prevalence of volatile fuels was calculated using focal statistics and raster calculator tools.
For short range spotting (reclass100m), we used a circular neighborhood with a 3-cell radius to sum the surrounding cells. Prevalence of volatile fuels was calculated using raster calculator to divide cell values by 29 and return an integer. For long range spotting (reclass500m), we used a circular neighborhood with a 16-cell radius to sum the surrounding cells. Prevalence of volatile fuels was calculated using raster calculator to divide cell values by 797 and return an integer. Water/ice pixels from the original input landcover raster reclassified to 101 and mosaiced into the long range and short-range spotting exposure rasters. The intent of the water/ice patch is to make the dataset easier for users to interpret and to distinguish areas unlikely to burn (e.g., sparse vegetation) from those that will not burn (e.g., water).
After the water/ice pixels were added , the rasters were reclassified a second time.
Prevalence values were reclassified as follows:
Values between 0 and 19 were reclassified to 1 (Very Low).
Values between 20 and 39 were reclassified to 2 (Low).
Values between 40 and 59 were reclassified to 3 (Moderate).
Values between 60 and 79 were reclassified to 4 (High).
Values between 80 and 100 were reclassified to 5 (Maximum).
Values of 101 were reclassified to 10 (Water/Ice).
</stepDesc>
<stepDateTm>2023-02-03T00:00:00</stepDateTm>
<stepProc>
<rpOrgName>U.S. Department of the Interior, Bureau of Land Management (BLM), Alaska Fire Service</rpOrgName>
<rpPosName>GIS Specialist</rpPosName>
<rpCntInfo>
<cntAddress addressType="postal">
<delPoint>P.O. Box 35005</delPoint>
<city>Fort Wainwright</city>
<adminArea>AK</adminArea>
<postCode>99703</postCode>
<eMailAdd>blm_ak_afs_gis@blm.gov</eMailAdd>
<country>US</country>
</cntAddress>
<cntInstr>Contact by email.</cntInstr>
</rpCntInfo>
<displayName>Organization: U.S. Department of the Interior, Bureau of Land Management (BLM), Alaska Fire Service
Position: GIS Specialist
Role: Distributor</displayName>
<displayName>Organization: U.S. Department of the Interior, Bureau of Land Management (BLM), Alaska Fire Service
Position: GIS Specialist
Role: Unknown</displayName>
<role>
<RoleCd value="007">
</RoleCd>
</role>
</stepProc>
</prcStep>
</dataLineage>
</dqInfo>
<refSysInfo>
<RefSystem>
<refSysID>
<identCode Sync="TRUE" code="3857">
</identCode>
<idCodeSpace Sync="TRUE">EPSG</idCodeSpace>
<idVersion Sync="TRUE">6.18.3(9.3.1.2)</idVersion>
</refSysID>
</RefSystem>
</refSysInfo>
<eainfo>
<detailed Name="GISRASTER.SDE_VAT_889">
<enttyp>
<enttypl Sync="TRUE">GISRASTER.SDE_VAT_889</enttypl>
<enttypt Sync="TRUE">Table</enttypt>
<enttypc Sync="TRUE">6</enttypc>
<enttypd>AK volatile fuel (conifer) prevalence, long range spotting values and description.</enttypd>
<enttypds>Esri</enttypds>
</enttyp>
<attr>
<attrlabl Sync="TRUE">OBJECTID</attrlabl>
<attalias Sync="TRUE">OBJECTID</attalias>
<attrtype Sync="TRUE">OID</attrtype>
<attwidth Sync="TRUE">4</attwidth>
<atprecis Sync="TRUE">0</atprecis>
<attscale Sync="TRUE">0</attscale>
<attrdef Sync="TRUE">Internal feature number.</attrdef>
<attrdefs Sync="TRUE">Esri</attrdefs>
<attrdomv>
<udom Sync="TRUE">Sequential unique whole numbers that are automatically generated.</udom>
</attrdomv>
</attr>
<attr>
<attrlabl Sync="TRUE">Value</attrlabl>
<attalias Sync="TRUE">Value</attalias>
<attrtype Sync="TRUE">Integer</attrtype>
<attwidth Sync="TRUE">4</attwidth>
<atprecis Sync="TRUE">0</atprecis>
<attscale Sync="TRUE">0</attscale>
<attrdef>Prevalence values fall into 6 categories:
1 = Very Low prevalence of hazardous/highly flammable vegetation in the surrounding area
2 = Low prevalence of hazardous/highly flammable vegetation in the surrounding area
3 = Moderate prevalence of hazardous/highly flammable vegetation in the surrounding area.
4 = High prevalence of hazardous/highly flammable vegetation in the surrounding area.
5 = Maximum (surrounded) prevalence of hazardous/highly flammable vegetation in the surrounding area.
10 = Identifies water/ice, derived from in the original landcover dataset.</attrdef>
<attrdefs>AFS</attrdefs>
<attrdomv>
<rdom>
<rdommin>1</rdommin>
<rdommax>10</rdommax>
</rdom>
</attrdomv>
</attr>
<attr>
<attrlabl Sync="TRUE">Count</attrlabl>
<attalias Sync="TRUE">Count</attalias>
<attrtype Sync="TRUE">Double</attrtype>
<attwidth Sync="TRUE">8</attwidth>
<atprecis Sync="TRUE">0</atprecis>
<attscale Sync="TRUE">0</attscale>
<attrdef>Total number of pixels with a given value</attrdef>
<attrdefs>Esri</attrdefs>
</attr>
<attr>
<attrlabl Sync="TRUE">VolatileFuelPrevalence</attrlabl>
<attalias Sync="TRUE">Volatile Fuel Prevalence</attalias>
<attrtype Sync="TRUE">String</attrtype>
<attwidth Sync="TRUE">255</attwidth>
<atprecis Sync="TRUE">0</atprecis>
<attscale Sync="TRUE">0</attscale>
<attrdef>Simplified text description of the volatile fuel prevalence values.</attrdef>
<attrdefs>Esri</attrdefs>
<attrdomv>
<edom>
<edomv>Maximum</edomv>
<edomvd>Maximum prevalence (i.e., surrounded by) of hazardous/highly flammable vegetation in the surrounding area.</edomvd>
<edomvds>Esri</edomvds>
</edom>
<edom>
<edomv>High</edomv>
<edomvd>High prevalence of hazardous/highly flammable vegetation in the surrounding area.</edomvd>
<edomvds>Esri</edomvds>
</edom>
<edom>
<edomv>Moderate</edomv>
<edomvd>Moderate prevalence of hazardous/highly flammable vegetation in the surrounding area.</edomvd>
<edomvds>Esri</edomvds>
</edom>
<edom>
<edomv>Low</edomv>
<edomvd>Low prevalence of hazardous/highly flammable vegetation in the surrounding area.</edomvd>
<edomvds>Esri</edomvds>
</edom>
<edom>
<edomv>Very Low</edomv>
<edomvd>Very low prevalence of hazardous/highly flammable vegetation in the surrounding area.</edomvd>
<edomvds>Esri</edomvds>
</edom>
</attrdomv>
</attr>
<attr>
<attrlabl Sync="TRUE">RED</attrlabl>
<attalias Sync="TRUE">RED</attalias>
<attrtype Sync="TRUE">SmallInteger</attrtype>
<attwidth Sync="TRUE">2</attwidth>
<atprecis Sync="TRUE">5</atprecis>
<attscale Sync="TRUE">0</attscale>
<attrdef>RGB value for Red. Used to control the default display of the raster.</attrdef>
<attrdefs>Esri</attrdefs>
<attrdomv>
<udom>Number.</udom>
</attrdomv>
</attr>
<attr>
<attrlabl Sync="TRUE">GREEN</attrlabl>
<attalias Sync="TRUE">GREEN</attalias>
<attrtype Sync="TRUE">SmallInteger</attrtype>
<attwidth Sync="TRUE">2</attwidth>
<atprecis Sync="TRUE">5</atprecis>
<attscale Sync="TRUE">0</attscale>
<attrdef>RGB value for Green. Used to control the default display of the raster.</attrdef>
<attrdefs>Esri</attrdefs>
<attrdomv>
<udom>Number.</udom>
</attrdomv>
</attr>
<attr>
<attrlabl Sync="TRUE">BLUE</attrlabl>
<attalias Sync="TRUE">BLUE</attalias>
<attrtype Sync="TRUE">SmallInteger</attrtype>
<attwidth Sync="TRUE">2</attwidth>
<atprecis Sync="TRUE">5</atprecis>
<attscale Sync="TRUE">0</attscale>
<attrdef>RGB value for Blue. Used to control the default display of the raster.</attrdef>
<attrdefs>Esri</attrdefs>
<attrdomv>
<udom>Number.</udom>
</attrdomv>
</attr>
<attr>
<attrlabl Sync="TRUE">ALPHA</attrlabl>
<attalias Sync="TRUE">ALPHA</attalias>
<attrtype Sync="TRUE">SmallInteger</attrtype>
<attwidth Sync="TRUE">2</attwidth>
<atprecis Sync="TRUE">5</atprecis>
<attscale Sync="TRUE">0</attscale>
<attrdef>Used to control the default display of the raster.</attrdef>
<attrdefs>Esri</attrdefs>
<attrdomv>
<udom>Number.</udom>
</attrdomv>
</attr>
</detailed>
<overview>
<eaover>Alaska Volatile Fuel (conifer) Prevalence, Long Distance Spotting Raster and Attribute Table.</eaover>
</overview>
</eainfo>
<spdoinfo>
<rastinfo>
<rasttype Sync="TRUE">Pixel</rasttype>
<rowcount Sync="TRUE">145829</rowcount>
<colcount Sync="TRUE">208710</colcount>
<rastxsz Sync="TRUE">30.000000</rastxsz>
<rastysz Sync="TRUE">30.000000</rastysz>
<rastbpp Sync="TRUE">8</rastbpp>
<vrtcount Sync="TRUE">1</vrtcount>
<rastorig Sync="TRUE">Upper Left</rastorig>
<rastcmap Sync="TRUE">FALSE</rastcmap>
<rastcomp Sync="TRUE">LZ77</rastcomp>
<rastband Sync="TRUE">1</rastband>
<rastdtyp Sync="TRUE">pixel codes</rastdtyp>
<rastifor Sync="TRUE">SDR</rastifor>
<rastplyr Sync="TRUE">TRUE</rastplyr>
</rastinfo>
</spdoinfo>
<spref>
<horizsys>
<planar>
